BEGIN:VCALENDAR
VERSION:2.0
PRODID:-//OLLN2.0 - ECPv4.9.0.3//NONSGML v1.0//EN
CALSCALE:GREGORIAN
METHOD:PUBLISH
X-WR-CALNAME:OLLN2.0
X-ORIGINAL-URL:http://www.olln20.be
X-WR-CALDESC:Évènements pour OLLN2.0
BEGIN:VEVENT
DTSTART;TZID=Europe/Brussels:20211023T190000
DTEND;TZID=Europe/Brussels:20211023T233000
DTSTAMP:20260420T215033
CREATED:20210926T185905Z
LAST-MODIFIED:20210926T185905Z
UID:860-1635015600-1635031800@www.olln20.be
SUMMARY:A nouveau ensemble (souper annuel)
DESCRIPTION:Se retrouver\, en toute simplicité et convivialité\, avec vos mandataires… C’est enfin possible et c’est le 23 octobre que cela se passe! Inscrivez-vous nombreux. \nApéro + trio de pâtes + trio de desserts + café \n18€ par personne \nRéservations obligatoires: contact@mrolln.be \nPaiement après avoir réservé et avant le 20/10/2021 sur le compte BE18 0013 8899 8065 au nom de MR OLLN\ncommunication : nom et nombre de convives. \n \n
URL:http://www.olln20.be/event/a-nouveau-ensemble-souper-annuel/
LOCATION:Salle Julles Ginion\, Place Communale\, Céroux\, Belgique
END:VEVENT
END:VCALENDAR