BEGIN:VCALENDAR
VERSION:2.0
PRODID:-//OLLN2.0 - ECPv4.9.0.3//NONSGML v1.0//EN
CALSCALE:GREGORIAN
METHOD:PUBLISH
X-WR-CALNAME:OLLN2.0
X-ORIGINAL-URL:http://www.olln20.be
X-WR-CALDESC:Évènements pour OLLN2.0
BEGIN:VEVENT
DTSTART;TZID=Europe/Brussels:20230115T110000
DTEND;TZID=Europe/Brussels:20230115T130000
DTSTAMP:20260420T034023
CREATED:20221229T193835Z
LAST-MODIFIED:20221229T193835Z
UID:1025-1673780400-1673787600@www.olln20.be
SUMMARY:Drink de Nouvel An
DESCRIPTION:Rejoignez-nous et levons notre verre ensemble à la nouvelle année qui commence! \nRéservation souhaitée pour le 10/1 au plus tard à contact@mrolln.be \n \n
URL:http://www.olln20.be/event/drink-de-nouvel-an/
LOCATION:Centre Culturel d’Ottignies-LLN\, avenue des Combattants 41\, Ottignies\, 1340\, Belgique
END:VEVENT
END:VCALENDAR