BEGIN:VCALENDAR
VERSION:2.0
PRODID:-//OLLN2.0 - ECPv4.9.0.3//NONSGML v1.0//EN
CALSCALE:GREGORIAN
METHOD:PUBLISH
X-WR-CALNAME:OLLN2.0
X-ORIGINAL-URL:http://www.olln20.be
X-WR-CALDESC:Évènements pour OLLN2.0
BEGIN:VEVENT
DTSTART;TZID=Europe/Brussels:20221209T173000
DTEND;TZID=Europe/Brussels:20221209T173000
DTSTAMP:20260420T080102
CREATED:20221205T195310Z
LAST-MODIFIED:20221206T080152Z
UID:1019-1670607000-1670607000@www.olln20.be
SUMMARY:Rejoignez-nous à Louvain-la-Neige pour un moment convivial!
DESCRIPTION: \n
URL:http://www.olln20.be/event/rejoignez-nous-a-louvain-la-neige-pour-un-moment-convivial/
END:VEVENT
END:VCALENDAR