BEGIN:VCALENDAR
VERSION:2.0
PRODID:-//OLLN2.0 - ECPv4.9.0.3//NONSGML v1.0//EN
CALSCALE:GREGORIAN
METHOD:PUBLISH
X-WR-CALNAME:OLLN2.0
X-ORIGINAL-URL:http://www.olln20.be
X-WR-CALDESC:Évènements pour OLLN2.0
BEGIN:VEVENT
DTSTART;TZID=Europe/Brussels:20180705T190000
DTEND;TZID=Europe/Brussels:20180705T220000
DTSTAMP:20260421T035441
CREATED:20180626T202538Z
LAST-MODIFIED:20180626T202538Z
UID:393-1530817200-1530828000@www.olln20.be
SUMMARY:Rencontre citoyenne à Céroux-Mousty
DESCRIPTION:Venez rencontrer vos candidats et faire part de vos idées et propositions pour une nouvelle version de notre ville. \n
URL:http://www.olln20.be/event/rencontre-citoyenne-a-ceroux-mousty/
LOCATION:Maison O.T.\, Grand'Rue 67\, Céroux-Mousty\, 1341\, Belgique
ATTACH;FMTTYPE=image/jpeg:http://www.olln20.be/wp-content/uploads/2018/06/vousevent.jpg
END:VEVENT
END:VCALENDAR