BEGIN:VCALENDAR
VERSION:2.0
PRODID:-//OLLN2.0 - ECPv4.9.0.3//NONSGML v1.0//EN
CALSCALE:GREGORIAN
METHOD:PUBLISH
X-WR-CALNAME:OLLN2.0
X-ORIGINAL-URL:http://www.olln20.be
X-WR-CALDESC:Évènements pour OLLN2.0
BEGIN:VEVENT
DTSTART;TZID=Europe/Brussels:20220624T160000
DTEND;TZID=Europe/Brussels:20220624T180000
DTSTAMP:20260420T121239
CREATED:20220620T063514Z
LAST-MODIFIED:20220620T063514Z
UID:984-1656086400-1656093600@www.olln20.be
SUMMARY:Rencontre citoyenne à Céroux
DESCRIPTION: \n
URL:http://www.olln20.be/event/rencontre-citoyenne-a-ceroux/
LOCATION:Arrière de la salle Jules Ginion\, Grand'place de Céroux
END:VEVENT
END:VCALENDAR