BEGIN:VCALENDAR
VERSION:2.0
PRODID:-//OLLN2.0 - ECPv4.9.0.3//NONSGML v1.0//EN
CALSCALE:GREGORIAN
METHOD:PUBLISH
X-WR-CALNAME:OLLN2.0
X-ORIGINAL-URL:http://www.olln20.be
X-WR-CALDESC:Évènements pour OLLN2.0
BEGIN:VEVENT
DTSTART;TZID=Europe/Brussels:20220617T170000
DTEND;TZID=Europe/Brussels:20220617T190000
DTSTAMP:20260420T140805
CREATED:20220613T081510Z
LAST-MODIFIED:20220613T081510Z
UID:976-1655485200-1655492400@www.olln20.be
SUMMARY:Rencontre citoyenne à Limelette
DESCRIPTION: \n
URL:http://www.olln20.be/event/rencontre-citoyenne-a-limelette-2/
LOCATION:Le Barbuston\, Avenue Demolder 2\, Limelette\, Belgique
END:VEVENT
END:VCALENDAR