BEGIN:VCALENDAR
VERSION:2.0
PRODID:-//OLLN2.0 - ECPv4.9.0.3//NONSGML v1.0//EN
CALSCALE:GREGORIAN
METHOD:PUBLISH
X-WR-CALNAME:OLLN2.0
X-ORIGINAL-URL:http://www.olln20.be
X-WR-CALDESC:Évènements pour OLLN2.0
BEGIN:VEVENT
DTSTART;TZID=Europe/Brussels:20221022T190000
DTEND;TZID=Europe/Brussels:20221022T233000
DTSTAMP:20260420T100116
CREATED:20220915T192257Z
LAST-MODIFIED:20220915T192257Z
UID:994-1666465200-1666481400@www.olln20.be
SUMMARY:Souper de section
DESCRIPTION: \n
URL:http://www.olln20.be/event/souper-de-section/
LOCATION:Salle Julles Ginion\, Place Communale\, Céroux\, Belgique
END:VEVENT
END:VCALENDAR